BEGIN:VCALENDAR
VERSION:2.0
PRODID:-//C Fylm - ECPv6.15.13//NONSGML v1.0//EN
CALSCALE:GREGORIAN
METHOD:PUBLISH
X-WR-CALNAME:C Fylm
X-ORIGINAL-URL:https://cfylm.co.uk
X-WR-CALDESC:Events for C Fylm
REFRESH-INTERVAL;VALUE=DURATION:PT1H
X-Robots-Tag:noindex
X-PUBLISHED-TTL:PT1H
BEGIN:VTIMEZONE
TZID:Europe/London
BEGIN:DAYLIGHT
TZOFFSETFROM:+0000
TZOFFSETTO:+0100
TZNAME:BST
DTSTART:20240331T010000
END:DAYLIGHT
BEGIN:STANDARD
TZOFFSETFROM:+0100
TZOFFSETTO:+0000
TZNAME:GMT
DTSTART:20241027T010000
END:STANDARD
BEGIN:DAYLIGHT
TZOFFSETFROM:+0000
TZOFFSETTO:+0100
TZNAME:BST
DTSTART:20250330T010000
END:DAYLIGHT
BEGIN:STANDARD
TZOFFSETFROM:+0100
TZOFFSETTO:+0000
TZNAME:GMT
DTSTART:20251026T010000
END:STANDARD
BEGIN:DAYLIGHT
TZOFFSETFROM:+0000
TZOFFSETTO:+0100
TZNAME:BST
DTSTART:20260329T010000
END:DAYLIGHT
BEGIN:STANDARD
TZOFFSETFROM:+0100
TZOFFSETTO:+0000
TZNAME:GMT
DTSTART:20261025T010000
END:STANDARD
END:VTIMEZONE
BEGIN:VEVENT
DTSTART;TZID=Europe/London:20250617T193000
DTEND;TZID=Europe/London:20250617T220000
DTSTAMP:20260422T093335
CREATED:20250604T145327Z
LAST-MODIFIED:20250604T145327Z
UID:2319-1750188600-1750197600@cfylm.co.uk
SUMMARY:The Road Dance - Harrowbarrow & Metherell Village Hall
DESCRIPTION:A young girl lives in the Outer Hebrides in a small village in the years just before WWI. Isolated and hard by the shore\, her life takes a dramatic change when a terrible tragedy befalls her. \nCast: Hermione Corfield\, Will Fletcher\, Mark Gatiss\nDirected by: Richie Adams\nCertificate: ​15 \nDoors 7pm\, film 7.30pm \n£6 new members\, £5 members \nCash on the door
URL:https://cfylm.co.uk/event/the-road-dance-harrowbarrow-metherell-village-hall/
LOCATION:Harrowbarrow & Metherell Village Hall\, Harrowbarrow & Metherell Village Hall\, School Road\, Callington\, Cornwall\, PL17 8BQ\, United Kingdom
ATTACH;FMTTYPE=image/jpeg:https://cfylm.co.uk/wp-content/uploads/2025/06/The-Road-Dance-landscape.jpg
ORGANIZER;CN="Eileen Sturt":MAILTO:hamletfilmclub@btinternet.com
END:VEVENT
END:VCALENDAR