BEGIN:VCALENDAR
VERSION:2.0
PRODID:-//C Fylm - ECPv6.15.13//NONSGML v1.0//EN
CALSCALE:GREGORIAN
METHOD:PUBLISH
X-ORIGINAL-URL:https://cfylm.co.uk
X-WR-CALDESC:Events for C Fylm
REFRESH-INTERVAL;VALUE=DURATION:PT1H
X-Robots-Tag:noindex
X-PUBLISHED-TTL:PT1H
BEGIN:VTIMEZONE
TZID:Europe/London
BEGIN:DAYLIGHT
TZOFFSETFROM:+0000
TZOFFSETTO:+0100
TZNAME:BST
DTSTART:20250330T010000
END:DAYLIGHT
BEGIN:STANDARD
TZOFFSETFROM:+0100
TZOFFSETTO:+0000
TZNAME:GMT
DTSTART:20251026T010000
END:STANDARD
BEGIN:DAYLIGHT
TZOFFSETFROM:+0000
TZOFFSETTO:+0100
TZNAME:BST
DTSTART:20260329T010000
END:DAYLIGHT
BEGIN:STANDARD
TZOFFSETFROM:+0100
TZOFFSETTO:+0000
TZNAME:GMT
DTSTART:20261025T010000
END:STANDARD
BEGIN:DAYLIGHT
TZOFFSETFROM:+0000
TZOFFSETTO:+0100
TZNAME:BST
DTSTART:20270328T010000
END:DAYLIGHT
BEGIN:STANDARD
TZOFFSETFROM:+0100
TZOFFSETTO:+0000
TZNAME:GMT
DTSTART:20271031T010000
END:STANDARD
END:VTIMEZONE
BEGIN:VEVENT
DTSTART;TZID=Europe/London:20260529T193000
DTEND;TZID=Europe/London:20260529T220000
DTSTAMP:20260419T183134
CREATED:20260415T103523Z
LAST-MODIFIED:20260415T103523Z
UID:3172-1780083000-1780092000@cfylm.co.uk
SUMMARY:St Tudy Film Club - St Tudy Village Hall
DESCRIPTION:Doors 7pm\, film 7.30pm \n£8\, £10 or £12 new members\nincludes 12 month C Fylm membership to all our film club venues \n£5 members \nCash on the door or book online
URL:https://cfylm.co.uk/event/st-tudy-film-club-st-tudy-village-hall-4/
LOCATION:St Tudy Village Hall\, St Tudy\, Cornwall\, PL30 3ND\, United Kingdom
END:VEVENT
BEGIN:VEVENT
DTSTART;TZID=Europe/London:20260530T190000
DTEND;TZID=Europe/London:20260530T213000
DTSTAMP:20260419T183134
CREATED:20260415T103818Z
LAST-MODIFIED:20260415T103818Z
UID:3174-1780167600-1780176600@cfylm.co.uk
SUMMARY:Carnkie Film Club – Carnkie Village Hall
DESCRIPTION:Doors 6.30pm\, film 7pm \n£8\, £10\, or £12 new members (Pay What You Can)\n£4 under 25s\nincludes 12 month C Fylm membership to all our film club venues \n£4 members \nCash on the door
URL:https://cfylm.co.uk/event/carnkie-film-club-carnkie-village-hall-9/
LOCATION:Carnkie Village Hall
END:VEVENT
BEGIN:VEVENT
DTSTART;TZID=Europe/London:20260530T190000
DTEND;TZID=Europe/London:20260530T213000
DTSTAMP:20260419T183134
CREATED:20260415T103948Z
LAST-MODIFIED:20260415T103948Z
UID:3176-1780167600-1780176600@cfylm.co.uk
SUMMARY:Polruan Film Club - 50th screening! - Polruan Village Hall
DESCRIPTION:Doors 7pm\, film 7.30pm \n£8\, £10\, or £12 new members (Pay What You Can)\n£4 under 25s\nincludes 12 month C Fylm membership to all our film club venues \n£4 members \nCash on the door or book online
URL:https://cfylm.co.uk/event/polruan-film-club-50th-screening-polruan-village-hall/
LOCATION:Polruan Village Hall\, School Lane\, Fowey\, Cornwall\, PL23 1QA\, United Kingdom
END:VEVENT
END:VCALENDAR