BEGIN:VCALENDAR
VERSION:2.0
PRODID:-//C Fylm - ECPv6.15.13//NONSGML v1.0//EN
CALSCALE:GREGORIAN
METHOD:PUBLISH
X-WR-CALNAME:C Fylm
X-ORIGINAL-URL:https://cfylm.co.uk
X-WR-CALDESC:Events for C Fylm
REFRESH-INTERVAL;VALUE=DURATION:PT1H
X-Robots-Tag:noindex
X-PUBLISHED-TTL:PT1H
BEGIN:VTIMEZONE
TZID:Europe/London
BEGIN:DAYLIGHT
TZOFFSETFROM:+0000
TZOFFSETTO:+0100
TZNAME:BST
DTSTART:20240331T010000
END:DAYLIGHT
BEGIN:STANDARD
TZOFFSETFROM:+0100
TZOFFSETTO:+0000
TZNAME:GMT
DTSTART:20241027T010000
END:STANDARD
BEGIN:DAYLIGHT
TZOFFSETFROM:+0000
TZOFFSETTO:+0100
TZNAME:BST
DTSTART:20250330T010000
END:DAYLIGHT
BEGIN:STANDARD
TZOFFSETFROM:+0100
TZOFFSETTO:+0000
TZNAME:GMT
DTSTART:20251026T010000
END:STANDARD
BEGIN:DAYLIGHT
TZOFFSETFROM:+0000
TZOFFSETTO:+0100
TZNAME:BST
DTSTART:20260329T010000
END:DAYLIGHT
BEGIN:STANDARD
TZOFFSETFROM:+0100
TZOFFSETTO:+0000
TZNAME:GMT
DTSTART:20261025T010000
END:STANDARD
END:VTIMEZONE
BEGIN:VEVENT
DTSTART;TZID=Europe/London:20250118T193000
DTEND;TZID=Europe/London:20250118T220000
DTSTAMP:20260424T164506
CREATED:20250103T170902Z
LAST-MODIFIED:20250103T170902Z
UID:2130-1737228600-1737237600@cfylm.co.uk
SUMMARY:Townshend Film Club - An Inspector Calls
DESCRIPTION:Based on the play by J.B. Priestley\, this British mystery follows Inspector Poole (Alastair Sim) as he investigates the apparent suicide of Eva Smith (Jane Wenham)\, a young working-class woman. Paying a visit to the wealthy Birling household\, Poole arrives in the middle of a dinner party and slowly reveals how each family member\, including stern patriarch Arthur Birling (Arthur Young) and his uptight wife\, Sybil (Olga Lindo)\, could have had a hand in Eva’s death. \nStarring: Alastair Sim\, Olga Lindo\, Arthur Young \nDirected by: Guy Hamilton \nCertificate: PG \n 
URL:https://cfylm.co.uk/event/townshend-film-club-an-inspector-calls/
LOCATION:Townshend Village Hall\, Townshend Village Hall\, Townshend\, Cornwall\, TR27 6AG
ATTACH;FMTTYPE=image/jpeg:https://cfylm.co.uk/wp-content/uploads/2025/01/An-Inspector-Calls-still.jpg
END:VEVENT
END:VCALENDAR